BEGIN:VCALENDAR
VERSION:2.0
PRODID:-//ChamberMaster//Event Calendar 2.0//EN
METHOD:PUBLISH
X-PUBLISHED-TTL:P3D
REFRESH-INTERVAL:P3D
CALSCALE:GREGORIAN
BEGIN:VEVENT
DTSTART:20240814T193000Z
DTEND:20240814T230000Z
X-MICROSOFT-CDO-ALLDAYEVENT:FALSE
SUMMARY:Workplace - First Aid - CPR - AED Training
DESCRIPTION:The Winona Grange #271 is hosting a Workplace First Aid - CPR - AED Training
X-ALT-DESC;FMTTYPE=text/html:The Winona Grange #271 is hosting a Workplace First Aid - CPR - AED Training<br />\n&nbsp\;
LOCATION:Winona Grange #271 8340 SW Seneca St Tualatin OR 97062
UID:e.2305.12995
SEQUENCE:3
DTSTAMP:20260422T080725Z
URL:http://tualatinchamber.chambermaster.com/events/details/workplace-first-aid-cpr-aed-training-12995
END:VEVENT

END:VCALENDAR
